BEGIN:VCALENDAR
VERSION:2.0
PRODID:-//wp-events-plugin.com//7.2.3.1//EN
TZID:America/New_York
X-WR-TIMEZONE:America/New_York
BEGIN:VEVENT
UID:702@tbsvero.org
DTSTART;TZID=America/New_York:20260502T140000
DTEND;TZID=America/New_York:20260502T160000
DTSTAMP:20260211T185939Z
URL:https://tbsvero.org/events/treasure-coast-jewish-film-festival-at-temp
 le-beth-el-israel/
SUMMARY:Treasure Coast Jewish Film Festival at Temple Beth El Israel
DESCRIPTION:"This is My Mother" is screened live at Temple Beth El Israel\,
  551 SW Bethany Dr\, Port St. Lucie.\n\nPierre's mother is bipolar\, whims
 ical and excessive. She shows up after escaping from her clinic. His only 
 intent is to return her to the clinic and resume a normal life\, but nothi
 ng goes according to plan. The reunion\, both explosively funny and moving
 \, transforms them forever.\n\nLearn more.
ATTACH;FMTTYPE=image/jpeg:https://tbsvero.org/wp-content/uploads/2025/12/a
 pproved-24.png
CATEGORIES:Community
END:VEVENT
BEGIN:VTIMEZONE
TZID:America/New_York
X-LIC-LOCATION:America/New_York
BEGIN:DAYLIGHT
DTSTART:20260308T030000
TZOFFSETFROM:-0500
TZOFFSETTO:-0400
TZNAME:EDT
END:DAYLIGHT
END:VTIMEZONE
END:VCALENDAR