BEGIN:VCALENDAR
VERSION:2.0
PRODID:-//wp-events-plugin.com//7.2.3.1//EN
TZID:America/New_York
X-WR-TIMEZONE:America/New_York
BEGIN:VEVENT
UID:1060@tbsvero.org
DTSTART;TZID=America/New_York:20260519T180000
DTEND;TZID=America/New_York:20260519T203000
DTSTAMP:20260409T030920Z
URL:https://tbsvero.org/events/sisterhood-closing-dinner/
SUMMARY:Sisterhood Sit Down Dinner
DESCRIPTION:Pointe West Country Club\, 7500 14th Lane\, Vero Beach\nWe look
  forward to seeing everyone for a very enjoyable social get-together.\nCos
 t: $50.00\nMenu\nPointe West House Salad - Assorted Dressings\nFreshly Bak
 ed Rolls\n\nChoice of: Italian Roasted Bone-in Lemon Garlic Chicken or But
 ter Crumb Crusted Cod Fish or Penne Pasta/Marinara Sauce - with or without
  Ricotta\, Parmesan and Mozzarella Cheeses\nPlatters will include - Roaste
 d Potatoes\, Snap Peas and Carrots\n\nDessert: Assorted Cookies\nBeverages
  included: Iced Tea\, Lemonade\, Sparkling Water\, Hot Coffee or Tea\nOpen
  Cash Bar\n50/50 Raffle\n\nReceipt of your check with your choice of entr
 ée by May 12 is your reservation.\nMail to: Meryl Felds\, 3685 Loblolly
  Square\, Vero Beach\, FL 32966.\n\nThis event is for current Sisterhood m
 embers only.\nSisterhood underwrites all gratuities and other expenses tha
 t are incurred with this event.\n\n\nQuestions email: tbsverosisterhood@g
 mail.com.\n\n
ATTACH;FMTTYPE=image/jpeg:https://tbsvero.org/wp-content/uploads/2026/03/s
 it-down-dinner.png
CATEGORIES:Sisterhood
END:VEVENT
BEGIN:VTIMEZONE
TZID:America/New_York
X-LIC-LOCATION:America/New_York
BEGIN:DAYLIGHT
DTSTART:20260308T030000
TZOFFSETFROM:-0500
TZOFFSETTO:-0400
TZNAME:EDT
END:DAYLIGHT
END:VTIMEZONE
END:VCALENDAR