BEGIN:VCALENDAR
VERSION:2.0
PRODID:-//wp-events-plugin.com//7.2.3.1//EN
TZID:America/New_York
X-WR-TIMEZONE:America/New_York
BEGIN:VEVENT
UID:913@tbsvero.org
DTSTART;TZID=America/New_York:20260503T120000
DTEND;TZID=America/New_York:20260503T150000
DTSTAMP:20260325T204058Z
URL:https://tbsvero.org/events/its-a-party-celebrating-cantor-rabbi-kelly-
 onickel/
SUMMARY:It's A Party! Celebrating Cantor-Rabbi Kelly Onickel
DESCRIPTION:We continue the celebration on Sunday\, May 3 at 12:00pm with a
  concert honoring Cantor Kelly in our sanctuary\, followed by a yummy lunc
 h\, raffle and photo booth in the Edelstein Family Social Hall.\n\nThere i
 s no charge for this event! You can further honor Cantor Kelly by becoming
  a sponsor.\n\nChai Note - $180\nKlezmer Circle - $540\nVirtuoso Circle - 
 $1800\nMaestro Circle - $5400\nSymphony Circle - $10\,800\nGrand Finale - 
 $18\,000\n\nAll sponsorships will go into the Ike and Alezah Music Fund.\n
 \nPlease RSVP to the Temple Beth Shalom Office at tbsoffice@tbsvero.org or
  by calling (772) 569-4700.\n\nRSVPs must be in by April 22 at 3:00pm.
ATTACH;FMTTYPE=image/jpeg:https://tbsvero.org/wp-content/uploads/2026/03/i
 ts-a-party.png
CATEGORIES:Community
END:VEVENT
BEGIN:VTIMEZONE
TZID:America/New_York
X-LIC-LOCATION:America/New_York
BEGIN:DAYLIGHT
DTSTART:20260308T030000
TZOFFSETFROM:-0500
TZOFFSETTO:-0400
TZNAME:EDT
END:DAYLIGHT
END:VTIMEZONE
END:VCALENDAR