BEGIN:VCALENDAR
VERSION:2.0
PRODID:-//wp-events-plugin.com//7.2.3.1//EN
TZID:America/New_York
X-WR-TIMEZONE:America/New_York
BEGIN:VEVENT
UID:1062@tbsvero.org
DTSTART;TZID=America/New_York;VALUE=DATE:20260501
DTEND;TZID=America/New_York;VALUE=DATE:20260504
DTSTAMP:20260317T003126Z
URL:https://tbsvero.org/events/cantor-kellys-installation-and-celebration/
SUMMARY:Cantor Kelly's Installation and Celebration
DESCRIPTION:The celebrations begin on Friday\, May 1 at 6:30pm as we offici
 ally install Cantor Kelly Onickel as Temple Beth Shalom's Cantor. A specia
 l Oneg Shabbat will follow the service. We will meet in the Temple Beth Sh
 alom Sanctuary.\n\nWe continue the celebration on Sunday\, May 3 at 12:00p
 m with a concert honoring Cantor Kelly in our sanctuary\, followed by a yu
 mmy lunch\, raffle and photo booth in the Edelstein Family Social Hall.\n\
 nThere is no charge for this event! You can further honor Cantor Kelly by 
 becoming a sponsor.\n\nChai Note - $180\nKlezmer Circle - $540\nVirtuoso C
 ircle - $1800\nMaestro Circle - $5400\nSymphony Circle - $10\,800\nGrande 
 Finely - $18\,000\n\nAll sponsorships will go into the Ike and Alezah Musi
 c Fund.\n\nPlease RSVP to the Temple Beth Shalom Office at tbsoffice@tbsve
 ro.org or by calling (772) 569-4700.\n\nRSVPs must be in no later than Apr
 il 22 at 3:00pm.
ATTACH;FMTTYPE=image/jpeg:https://tbsvero.org/wp-content/uploads/2026/03/k
 elly-weekend.png
CATEGORIES:Community,Shabbat
END:VEVENT
BEGIN:VTIMEZONE
TZID:America/New_York
X-LIC-LOCATION:America/New_York
BEGIN:DAYLIGHT
DTSTART:20260308T030000
TZOFFSETFROM:-0500
TZOFFSETTO:-0400
TZNAME:EDT
END:DAYLIGHT
END:VTIMEZONE
END:VCALENDAR